BEGIN:VCALENDAR
VERSION:2.0
PRODID:-//eventon.com NONSGML v1.0//EN
CALSCALE:GREGORIAN
METHOD:PUBLISH
BEGIN:VEVENT
UID:69e73367ef752
DTSTAMP:20260421T082055Z
DTSTART:20230319T070000Z
DTEND:20230319T105000Z
LOCATION:
SUMMARY:Konzert 'Vorsicht Gebläse XXL + Strings'
DESCRIPTION:Stadthalle Lohr\nhttps://www.violosophy.com/events/konzert-vors
 icht-geblaese-xxl-strings/
URL:https://www.violosophy.com/events/konzert-vorsicht-geblaese-xxl-strings/
END:VEVENT
END:VCALENDAR