BEGIN:VCALENDAR
VERSION:2.0
PRODID:-//eventon.com NONSGML v1.0//EN
CALSCALE:GREGORIAN
METHOD:PUBLISH
BEGIN:VEVENT
UID:69e50a7b56634
DTSTAMP:20260419T170147Z
DTSTART:20240728T203000Z
DTEND:20240728T235000Z
LOCATION:
SUMMARY:Show Musical 'Hairspray' - Freilichtbühne Schwäbisch Hall
DESCRIPTION:Hairspray. Musical von Mark O&#8217;Donnell und Thomas Meehan\n
 https://www.violosophy.com/events/show-musical-hairspray-freilichtbuehne-sc
 hwaebisch-hall-7/
URL:https://www.violosophy.com/events/show-musical-hairspray-freilichtbuehne-schwaebisch-hall-7/
END:VEVENT
END:VCALENDAR