BEGIN:VCALENDAR
VERSION:2.0
PRODID:-//eventon.com NONSGML v1.0//EN
CALSCALE:GREGORIAN
METHOD:PUBLISH
BEGIN:VEVENT
UID:69eb3e3af2b11
DTSTAMP:20260424T095610Z
DTSTART:20240927T063000Z
DTEND:20240927T105000Z
LOCATION:
SUMMARY:Konzert Asamblea Mediterranea - Gustav-Siegle-Haus Stuttgart
DESCRIPTION:Gustav-Siegle-Haus Stuttgart Musik der Sepharden und Ashgennaze
 n Ein Konzert mit den Stuttgarter Symphonikern\nhttps://www.violosophy.com/
 events/konzert-asamblea-mediterranea-gustav-siegle-haus-stuttgart/
URL:https://www.violosophy.com/events/konzert-asamblea-mediterranea-gustav-siegle-haus-stuttgart/
END:VEVENT
END:VCALENDAR