BEGIN:VCALENDAR
VERSION:2.0
PRODID:-//eventon.com NONSGML v1.0//EN
CALSCALE:GREGORIAN
METHOD:PUBLISH
BEGIN:VEVENT
UID:69ed705aa4860
DTSTAMP:20260426T015434Z
DTSTART:20241207T190000Z
DTEND:20241207T225000Z
LOCATION:
SUMMARY:Bigband Steinbach - Konzert: Adeste Fideles Parktheater Göggingen
DESCRIPTION:Bigband Steinbach mit Streichern und Solisten Weihnachtskonzert
 \nhttps://www.violosophy.com/events/bigband-steinbach-konzert-adeste-fidele
 s/
URL:https://www.violosophy.com/events/bigband-steinbach-konzert-adeste-fideles/
END:VEVENT
END:VCALENDAR